View In:
ArcGIS JavaScript
ArcGIS Online map viewer
Google Earth
ArcMap
View Footprint In:
ArcGIS Online map viewer
Service Description:
Name: NRCan/EGS_RiverIce_Product_Current_fr
Description: NRCan/EGS_RiverIce_Product_Current_fr
Single Fused Map Cache: false
Extent:
XMin: 41
YMin: -10600583
XMax: 10600655
YMax: 31
Spatial Reference:
102100
(3857)
Initial Extent:
XMin: 41
YMin: -10600583
XMax: 10600655
YMax: 31
Spatial Reference:
102100
(3857)
Full Extent:
XMin: 41
YMin: -10600583
XMax: 10600655
YMax: 31
Spatial Reference:
102100
(3857)
Time Info:
Start Time Field: date_utc
End Time Field: null
Time Extent:
[2001/01/01 00:00:00 UTC, 2001/01/01 00:00:00 UTC]
Time Reference:
N/A
Pixel Size X: 1.0600614E7
Pixel Size Y: 1.0600614E7
Band Count: 1
Pixel Type: U8
RasterFunction Infos: {"name":"EGS_RiverIce_Product_AttributeTable_Function_fr","description":"A raster function template.","help":""}, {"name":"None","description":"A No-Op Function.","help":""}
Mensuration Capabilities: None
Has Histograms: false
Has Colormap: false
Has Multi Dimensions : false
Rendering Rule:
Min Scale: 0
Max Scale: 0
Copyright Text:
Service Data Type: esriImageServiceDataTypeThematic
Min Values: N/A
Max Values: N/A
Mean Values: N/A
Standard Deviation Values: N/A
Object ID Field: OBJECTID
Fields:
-
OBJECTID
(
type: esriFieldTypeOID
,
alias: OBJECTID
)
-
Shape
(
type: esriFieldTypeGeometry
,
alias: Shape
)
-
Name
(
type: esriFieldTypeString
,
alias: Name
,
length: 200
)
-
MinPS
(
type: esriFieldTypeDouble
,
alias: MinPS
)
-
MaxPS
(
type: esriFieldTypeDouble
,
alias: MaxPS
)
-
LowPS
(
type: esriFieldTypeDouble
,
alias: LowPS
)
-
HighPS
(
type: esriFieldTypeDouble
,
alias: HighPS
)
-
Category
(
type: esriFieldTypeInteger
,
alias: Category
,
Coded Values:
[0: Unknown]
,
[1: Primary]
,
[2: Overview]
, ...5 more...
)
-
Tag
(
type: esriFieldTypeString
,
alias: Tag
,
length: 100
)
-
GroupName
(
type: esriFieldTypeString
,
alias: GroupName
,
length: 100
)
-
ProductName
(
type: esriFieldTypeString
,
alias: ProductName
,
length: 100
)
-
CenterX
(
type: esriFieldTypeDouble
,
alias: CenterX
)
-
CenterY
(
type: esriFieldTypeDouble
,
alias: CenterY
)
-
ZOrder
(
type: esriFieldTypeInteger
,
alias: ZOrder
)
-
Shape_Length
(
type: esriFieldTypeDouble
,
alias: Shape_Length
)
-
Shape_Area
(
type: esriFieldTypeDouble
,
alias: Shape_Area
)
-
product_file_name
(
type: esriFieldTypeString
,
alias: Product File Name
,
length: 255
)
-
version
(
type: esriFieldTypeSingle
,
alias: Version
)
-
province_code
(
type: esriFieldTypeString
,
alias: Province Code
,
length: 2
)
-
aoi_code
(
type: esriFieldTypeString
,
alias: AOI Code
,
length: 60
)
-
datetime_utc
(
type: esriFieldTypeDate
,
alias: Datetime UTC
,
length: 8
)
-
date_utc
(
type: esriFieldTypeDate
,
alias: Date UTC
,
length: 8
)
-
datetime_utc_str
(
type: esriFieldTypeString
,
alias: Datetime UTC String
,
length: 19
)
-
sensor_type
(
type: esriFieldTypeString
,
alias: Sensor Type
,
length: 30
)
-
sensor_name
(
type: esriFieldTypeString
,
alias: Sensor Name
,
length: 30
)
-
confidence_level
(
type: esriFieldTypeString
,
alias: Confidence Level
,
length: 10
)
-
product_notes
(
type: esriFieldTypeString
,
alias: Product Notes
,
length: 1000
)
-
datetime_publication_utc
(
type: esriFieldTypeString
,
alias: Datetime Publication
,
length: 19
)
-
package_url
(
type: esriFieldTypeString
,
alias: Package URL
,
length: 255
)
-
is_active
(
type: esriFieldTypeSmallInteger
,
alias: Is Active
)
-
class
(
type: esriFieldTypeSmallInteger
,
alias: Classification
)
Default Mosaic Method: Northwest
Allowed Mosaic Methods: NorthWest,Center,LockRaster,ByAttribute,Nadir,Viewpoint,Seamline,None
SortField:
SortValue: null
Mosaic Operator: First
Default Compression Quality: 75
Default Resampling Method: Nearest
Max Record Count: 100000
Max Image Height: 4100
Max Image Width: 15000
Max Download Image Count: 20
Max Mosaic Image Count: 1000
Allow Raster Function: true
Allow Compute TiePoints: false
Supports Statistics: true
Supports Advanced Queries: true
Use StandardizedQueries: true
Raster Type Infos:
Name: Raster Dataset
Description: Supports all ArcGIS Raster Datasets
Help:
Has Raster Attribute Table: false
Edit Fields Info: null
Ownership Based AccessControl For Rasters: null
Child Resources:
Info
Key Properties
Legend
MultiDimensionalInfo
rasterFunctionInfos
Supported Operations:
Export Image
Query
Identify
Compute Histograms
Get Samples
Compute Class Statistics